BEGIN:VCALENDAR
VERSION:2.0
PRODID:-//Yolk - Das Café im Bennohaus - ECPv6.3.3.1//NONSGML v1.0//EN
CALSCALE:GREGORIAN
METHOD:PUBLISH
X-WR-CALNAME:Yolk - Das Café im Bennohaus
X-ORIGINAL-URL:https://yolk.ms
X-WR-CALDESC:Veranstaltungen für Yolk - Das Café im Bennohaus
REFRESH-INTERVAL;VALUE=DURATION:PT1H
X-Robots-Tag:noindex
X-PUBLISHED-TTL:PT1H
BEGIN:VTIMEZONE
TZID:Europe/Berlin
BEGIN:DAYLIGHT
TZOFFSETFROM:+0100
TZOFFSETTO:+0200
TZNAME:CEST
DTSTART:20260329T010000
END:DAYLIGHT
BEGIN:STANDARD
TZOFFSETFROM:+0200
TZOFFSETTO:+0100
TZNAME:CET
DTSTART:20261025T010000
END:STANDARD
END:VTIMEZONE
BEGIN:VEVENT
DTSTART;VALUE=DATE:20260410
DTEND;VALUE=DATE:20260610
DTSTAMP:20260425T193321
CREATED:20260316T012203Z
LAST-MODIFIED:20260316T012714Z
UID:10005369-1775779200-1781049599@yolk.ms
SUMMARY:Bilder von Bernhard Josef Egbring
DESCRIPTION:Bilder von Bernhard Josef Egbring\nAusstellung vom 10.04 bis zum 09.06.2026 \nim Yolk – Café im Bennohaus \ngeplanter Zufall\, Konstruktion\, gemalte Musik\, Synästhesie\, Kontrapunkt\, Emotionen\, innere Struktur\, Fuge\, Spontaneität. \nabstrakter Expressionismus \nMit Einflüssen durch und aus Action Painting\, Kubismus\, Surrealismus Dada\, Konstruktivismus und Konzepten aus der Musik \nEine Einladung in den Bildern auf Wanderschaft zu gehen\, Farbklänge\, Klangfarben\, Figuren und Wege in den Bildern zu entdecken
URL:https://yolk.ms/event/bilder-von-bernhard-josef-egbring/
LOCATION:Bennohaus – Yolk\, Bennostr. 5\, Münster\, 48155\, Deutschland
ATTACH;FMTTYPE=image/jpeg:https://yolk.ms/wp-content/uploads/2026/03/Bild3.jpg
END:VEVENT
BEGIN:VEVENT
DTSTART;VALUE=DATE:20260425
DTEND;VALUE=DATE:20260426
DTSTAMP:20260425T193321
CREATED:20251127T191112Z
LAST-MODIFIED:20251127T191112Z
UID:10005277-1777075200-1777161599@yolk.ms
SUMMARY:geschlossene Gesellschaft
DESCRIPTION:
URL:https://yolk.ms/event/geschlossene-gesellschaft-58/
LOCATION:Bennohaus – Yolk\, Bennostr. 5\, Münster\, 48155\, Deutschland
END:VEVENT
BEGIN:VEVENT
DTSTART;TZID=Europe/Berlin:20260426T120000
DTEND;TZID=Europe/Berlin:20260426T180000
DTSTAMP:20260425T193321
CREATED:20260416T175756Z
LAST-MODIFIED:20260416T175756Z
UID:10008062-1777204800-1777226400@yolk.ms
SUMMARY:geöffnet
DESCRIPTION:
URL:https://yolk.ms/event/geoeffnet-2/2026-04-26/
LOCATION:Bennohaus – Yolk\, Bennostr. 5\, Münster\, 48155\, Deutschland
END:VEVENT
BEGIN:VEVENT
DTSTART;TZID=Europe/Berlin:20260426T130000
DTEND;TZID=Europe/Berlin:20260426T180000
DTSTAMP:20260425T193321
CREATED:20240723T225527Z
LAST-MODIFIED:20250226T110157Z
UID:10002307-1777208400-1777226400@yolk.ms
SUMMARY:Spieletreff der Trading Card Game Pioneers
DESCRIPTION:Heldenhafte Taten & spannende Kämpfe gibt’s nicht nur online und in der Glotze\, sondern auch jeden Sonntag im Yolk in Münster. \nDie Trading Card Game Pioneers (TCGP e. V.) bieten dir die Möglichkeit\, regelmäßig Sammelkarten- und Brettspiele zu spielen\, an Events teilzunehmen uvm. Interesse? WhatsApp/SMS an 0173 68 198 12
URL:https://yolk.ms/event/spieletreff-der-trading-card-game-pioneers/2026-04-26/
LOCATION:Bennohaus – Yolk\, Bennostr. 5\, Münster\, 48155\, Deutschland
ATTACH;FMTTYPE=image/jpeg:https://yolk.ms/wp-content/uploads/2024/07/MTG-immer-sonntags-im-yolk.jpeg
ORGANIZER;CN="TCGP e.V.":MAILTO:info@tcgpev.de
END:VEVENT
BEGIN:VEVENT
DTSTART;VALUE=DATE:20260427
DTEND;VALUE=DATE:20260428
DTSTAMP:20260425T193321
CREATED:20260409T134036Z
LAST-MODIFIED:20260409T134036Z
UID:10005694-1777248000-1777334399@yolk.ms
SUMMARY:Ruhetag
DESCRIPTION:
URL:https://yolk.ms/event/ruhetag/2026-04-27/
LOCATION:Bennohaus – Yolk\, Bennostr. 5\, Münster\, 48155\, Deutschland
END:VEVENT
BEGIN:VEVENT
DTSTART;TZID=Europe/Berlin:20260428T140000
DTEND;TZID=Europe/Berlin:20260428T220000
DTSTAMP:20260425T193321
CREATED:20260416T175647Z
LAST-MODIFIED:20260416T175647Z
UID:10005968-1777384800-1777413600@yolk.ms
SUMMARY:geöffnet
DESCRIPTION:
URL:https://yolk.ms/event/geoeffnet/2026-04-28/
LOCATION:Bennohaus – Yolk\, Bennostr. 5\, Münster\, 48155\, Deutschland
END:VEVENT
BEGIN:VEVENT
DTSTART;TZID=Europe/Berlin:20260428T200000
DTEND;TZID=Europe/Berlin:20260428T235900
DTSTAMP:20260425T193321
CREATED:20260407T151752Z
LAST-MODIFIED:20260407T151752Z
UID:10005499-1777406400-1777420740@yolk.ms
SUMMARY:Freies Tanzen Salsa
DESCRIPTION:
URL:https://yolk.ms/event/freies-tanzen-salsa-5/
LOCATION:Bennohaus – Yolk\, Bennostr. 5\, Münster\, 48155\, Deutschland
END:VEVENT
BEGIN:VEVENT
DTSTART;TZID=Europe/Berlin:20260429T140000
DTEND;TZID=Europe/Berlin:20260429T220000
DTSTAMP:20260425T193321
CREATED:20260416T175647Z
LAST-MODIFIED:20260416T175647Z
UID:10005969-1777471200-1777500000@yolk.ms
SUMMARY:geöffnet
DESCRIPTION:
URL:https://yolk.ms/event/geoeffnet/2026-04-29/
LOCATION:Bennohaus – Yolk\, Bennostr. 5\, Münster\, 48155\, Deutschland
END:VEVENT
BEGIN:VEVENT
DTSTART;TZID=Europe/Berlin:20260430T140000
DTEND;TZID=Europe/Berlin:20260430T220000
DTSTAMP:20260425T193321
CREATED:20260416T175647Z
LAST-MODIFIED:20260416T175647Z
UID:10005970-1777557600-1777586400@yolk.ms
SUMMARY:geöffnet
DESCRIPTION:
URL:https://yolk.ms/event/geoeffnet/2026-04-30/
LOCATION:Bennohaus – Yolk\, Bennostr. 5\, Münster\, 48155\, Deutschland
END:VEVENT
END:VCALENDAR